Package: pmm Version: 1.40.0 Command: rm -rf pmm.buildbin-libdir && mkdir pmm.buildbin-libdir && E:\biocbuild\bbs-3.21-bioc\R\bin\R.exe CMD INSTALL --build --library=pmm.buildbin-libdir pmm_1.40.0.tar.gz StartedAt: 2025-08-15 09:57:40 -0400 (Fri, 15 Aug 2025) EndedAt: 2025-08-15 09:57:50 -0400 (Fri, 15 Aug 2025) EllapsedTime: 10.8 seconds RetCode: 0 Status: OK PackageFile: pmm_1.40.0.zip PackageFileSize: 681.2 KiB