Package: pmm Version: 1.40.0 Command: /home/biocbuild/R/R/bin/R CMD check --install=check:pmm.install-out.txt --library=/home/biocbuild/R/R/site-library --no-vignettes --timings pmm_1.40.0.tar.gz StartedAt: 2025-10-14 12:37:16 -0000 (Tue, 14 Oct 2025) EndedAt: 2025-10-14 12:39:03 -0000 (Tue, 14 Oct 2025) EllapsedTime: 107.1 seconds RetCode: 0 Status: OK CheckDir: pmm.Rcheck Warnings: 0