Package: plyxp Version: 1.2.7 Command: /Library/Frameworks/R.framework/Resources/bin/R CMD INSTALL plyxp StartedAt: 2025-10-13 16:06:17 -0400 (Mon, 13 Oct 2025) EndedAt: 2025-10-13 16:06:47 -0400 (Mon, 13 Oct 2025) EllapsedTime: 30.3 seconds RetCode: 0 Status: OK