Package: plyranges Version: 1.28.0 Command: /home/biocbuild/bbs-3.21-bioc/R/bin/R CMD INSTALL plyranges StartedAt: 2025-10-15 15:32:16 -0400 (Wed, 15 Oct 2025) EndedAt: 2025-10-15 15:32:51 -0400 (Wed, 15 Oct 2025) EllapsedTime: 34.8 seconds RetCode: 0 Status: OK