Package: plyranges Version: 1.28.0 Command: /home/biocbuild/bbs-3.21-bioc/R/bin/R CMD check --install=check:plyranges.install-out.txt --library=/home/biocbuild/bbs-3.21-bioc/R/site-library --timings plyranges_1.28.0.tar.gz StartedAt: 2025-10-16 02:17:03 -0400 (Thu, 16 Oct 2025) EndedAt: 2025-10-16 02:21:48 -0400 (Thu, 16 Oct 2025) EllapsedTime: 285.4 seconds RetCode: 0 Status: OK CheckDir: plyranges.Rcheck Warnings: 0