Package: plyranges Version: 1.28.0 Command: rm -rf plyranges.buildbin-libdir && mkdir plyranges.buildbin-libdir && /Users/biocbuild/BBS/utils/build-universal.sh plyranges_1.28.0.tar.gz /Library/Frameworks/R.framework/Resources/bin/R plyranges.buildbin-libdir StartedAt: 2025-10-14 14:23:44 -0400 (Tue, 14 Oct 2025) EndedAt: 2025-10-14 14:25:24 -0400 (Tue, 14 Oct 2025) EllapsedTime: 100.0 seconds RetCode: 0 Status: OK PackageFile: plyranges_1.28.0.tgz PackageFileSize: 1.554 MiB