Package: plyranges Version: 1.28.0 Command: /Library/Frameworks/R.framework/Resources/bin/R CMD INSTALL plyranges StartedAt: 2025-10-13 16:56:35 -0400 (Mon, 13 Oct 2025) EndedAt: 2025-10-13 16:57:15 -0400 (Mon, 13 Oct 2025) EllapsedTime: 40.7 seconds RetCode: 0 Status: OK