Package: plyinteractions Version: 1.6.0 Command: /home/biocbuild/bbs-3.21-bioc/R/bin/R CMD INSTALL plyinteractions StartedAt: 2025-10-08 15:33:30 -0400 (Wed, 08 Oct 2025) EndedAt: 2025-10-08 15:34:06 -0400 (Wed, 08 Oct 2025) EllapsedTime: 36.2 seconds RetCode: 0 Status: OK