Package: plyinteractions Version: 1.6.0 Command: rm -rf plyinteractions.buildbin-libdir && mkdir plyinteractions.buildbin-libdir && /Users/biocbuild/BBS/utils/build-universal.sh plyinteractions_1.6.0.tar.gz /Library/Frameworks/R.framework/Resources/bin/R plyinteractions.buildbin-libdir StartedAt: 2025-10-14 14:23:43 -0400 (Tue, 14 Oct 2025) EndedAt: 2025-10-14 14:25:23 -0400 (Tue, 14 Oct 2025) EllapsedTime: 99.9 seconds RetCode: 0 Status: OK PackageFile: plyinteractions_1.6.0.tgz PackageFileSize: 4.173 MiB