Package: plyinteractions Version: 1.6.0 Command: /home/biocbuild/R/R/bin/R CMD build --keep-empty-dirs --no-resave-data plyinteractions StartedAt: 2025-10-07 03:36:41 -0000 (Tue, 07 Oct 2025) EndedAt: 2025-10-07 03:50:07 -0000 (Tue, 07 Oct 2025) EllapsedTime: 805.3 seconds RetCode: 0 Status: OK PackageFile: plyinteractions_1.6.0.tar.gz PackageFileSize: 3.709 MiB