Package: plyinteractions Version: 1.6.0 Command: /Library/Frameworks/R.framework/Resources/bin/R CMD INSTALL plyinteractions StartedAt: 2025-10-06 17:00:36 -0400 (Mon, 06 Oct 2025) EndedAt: 2025-10-06 17:01:20 -0400 (Mon, 06 Oct 2025) EllapsedTime: 43.9 seconds RetCode: 0 Status: OK