Package: plyinteractions Version: 1.6.0 Maintainer: Jacques Serizay MaintainerEmail: jacquesserizay at gmail.com git_url: https://git.bioconductor.org/packages/plyinteractions git_branch: RELEASE_3_21 git_last_commit: 430eacd git_last_commit_date: 2025-04-15 13:22:10 -0400 (Tue, 15 Apr 2025)