Package: plier Version: 1.78.0 Command: chmod a+r plier -R && E:\biocbuild\bbs-3.21-bioc\R\bin\R.exe CMD build --keep-empty-dirs --no-resave-data plier StartedAt: 2025-08-14 21:19:48 -0400 (Thu, 14 Aug 2025) EndedAt: 2025-08-14 21:19:50 -0400 (Thu, 14 Aug 2025) EllapsedTime: 2.0 seconds RetCode: 0 Status: OK PackageFile: plier_1.78.0.tar.gz PackageFileSize: 20.33 KiB