Package: plier Version: 1.78.0 Command: /home/biocbuild/bbs-3.21-bioc/R/bin/R CMD build --keep-empty-dirs --no-resave-data plier StartedAt: 2025-10-08 19:09:20 -0400 (Wed, 08 Oct 2025) EndedAt: 2025-10-08 19:09:21 -0400 (Wed, 08 Oct 2025) EllapsedTime: 1.0 seconds RetCode: 0 Status: OK PackageFile: plier_1.78.0.tar.gz PackageFileSize: 20.32 KiB