Package: plier Version: 1.78.0 Command: /Library/Frameworks/R.framework/Resources/bin/R CMD INSTALL plier StartedAt: 2025-10-09 15:20:29 -0400 (Thu, 09 Oct 2025) EndedAt: 2025-10-09 15:20:43 -0400 (Thu, 09 Oct 2025) EllapsedTime: 14.2 seconds RetCode: 0 Status: OK