Package: plier Version: 1.78.0 Command: /Library/Frameworks/R.framework/Resources/bin/R CMD check --install=check:plier.install-out.txt --library=/Library/Frameworks/R.framework/Resources/library --no-vignettes --timings plier_1.78.0.tar.gz StartedAt: 2025-10-10 08:18:38 -0400 (Fri, 10 Oct 2025) EndedAt: 2025-10-10 08:19:29 -0400 (Fri, 10 Oct 2025) EllapsedTime: 51.6 seconds RetCode: 0 Status: WARNINGS CheckDir: plier.Rcheck Warnings: 1