Package: plier Version: 1.78.0 Command: /home/biocbuild/R/R/bin/R CMD INSTALL plier StartedAt: 2025-09-29 20:25:14 -0000 (Mon, 29 Sep 2025) EndedAt: 2025-09-29 20:25:21 -0000 (Mon, 29 Sep 2025) EllapsedTime: 6.9 seconds RetCode: 0 Status: OK