Package: plier Version: 1.78.0 Command: /home/biocbuild/R/R/bin/R CMD check --install=check:plier.install-out.txt --library=/home/biocbuild/R/R/site-library --no-vignettes --timings plier_1.78.0.tar.gz StartedAt: 2025-09-30 13:02:09 -0000 (Tue, 30 Sep 2025) EndedAt: 2025-09-30 13:02:38 -0000 (Tue, 30 Sep 2025) EllapsedTime: 29.0 seconds RetCode: 0 Status: WARNINGS CheckDir: plier.Rcheck Warnings: 1