Package: plier Version: 1.78.0 Command: /home/biocbuild/R/R/bin/R CMD build --keep-empty-dirs --no-resave-data plier StartedAt: 2025-09-30 04:09:54 -0000 (Tue, 30 Sep 2025) EndedAt: 2025-09-30 04:09:55 -0000 (Tue, 30 Sep 2025) EllapsedTime: 1.0 seconds RetCode: 0 Status: OK PackageFile: plier_1.78.0.tar.gz PackageFileSize: 20.33 KiB