Package: plier Version: 1.78.0 Command: rm -rf plier.buildbin-libdir && mkdir plier.buildbin-libdir && /Users/biocbuild/BBS/utils/build-universal.sh plier_1.78.0.tar.gz /Library/Frameworks/R.framework/Resources/bin/R plier.buildbin-libdir StartedAt: 2025-10-01 19:47:17 -0400 (Wed, 01 Oct 2025) EndedAt: 2025-10-01 19:47:25 -0400 (Wed, 01 Oct 2025) EllapsedTime: 8.0 seconds RetCode: 0 Status: OK PackageFile: plier_1.78.0.tgz PackageFileSize: 40 KiB