Package: plgem Version: 1.80.0 Command: rm -rf plgem.buildbin-libdir && mkdir plgem.buildbin-libdir && E:\biocbuild\bbs-3.21-bioc\R\bin\R.exe CMD INSTALL --build --library=plgem.buildbin-libdir plgem_1.80.0.tar.gz StartedAt: 2025-08-15 09:57:22 -0400 (Fri, 15 Aug 2025) EndedAt: 2025-08-15 09:57:30 -0400 (Fri, 15 Aug 2025) EllapsedTime: 7.7 seconds RetCode: 0 Status: OK PackageFile: plgem_1.80.0.zip PackageFileSize: 1006 KiB