Package: plgem Version: 1.80.0 Command: /home/biocbuild/bbs-3.21-bioc/R/bin/R CMD INSTALL plgem StartedAt: 2025-10-15 15:14:09 -0400 (Wed, 15 Oct 2025) EndedAt: 2025-10-15 15:14:12 -0400 (Wed, 15 Oct 2025) EllapsedTime: 2.7 seconds RetCode: 0 Status: OK