Package: plgem Version: 1.80.0 Command: /home/biocbuild/bbs-3.21-bioc/R/bin/R CMD build --keep-empty-dirs --no-resave-data plgem StartedAt: 2025-10-15 19:09:57 -0400 (Wed, 15 Oct 2025) EndedAt: 2025-10-15 19:10:11 -0400 (Wed, 15 Oct 2025) EllapsedTime: 14.0 seconds RetCode: 0 Status: OK PackageFile: plgem_1.80.0.tar.gz PackageFileSize: 1.037 MiB