Package: plgem Version: 1.80.0 Command: /Library/Frameworks/R.framework/Resources/bin/R CMD build --keep-empty-dirs --no-resave-data plgem StartedAt: 2025-10-14 06:39:40 -0400 (Tue, 14 Oct 2025) EndedAt: 2025-10-14 06:40:02 -0400 (Tue, 14 Oct 2025) EllapsedTime: 21.7 seconds RetCode: 0 Status: OK PackageFile: plgem_1.80.0.tar.gz PackageFileSize: 1.037 MiB