Package: plasmut Version: 1.6.0 Command: /Library/Frameworks/R.framework/Resources/bin/R CMD check --install=check:plasmut.install-out.txt --library=/Library/Frameworks/R.framework/Resources/library --no-vignettes --timings plasmut_1.6.0.tar.gz StartedAt: 2025-10-14 08:17:54 -0400 (Tue, 14 Oct 2025) EndedAt: 2025-10-14 08:19:08 -0400 (Tue, 14 Oct 2025) EllapsedTime: 74.2 seconds RetCode: 0 Status: OK CheckDir: plasmut.Rcheck Warnings: 0