Package: pipeComp Version: 1.18.0 Command: chmod a+r pipeComp -R && E:\biocbuild\bbs-3.21-bioc\R\bin\R.exe CMD build --keep-empty-dirs --no-resave-data pipeComp StartedAt: 2025-08-14 21:18:18 -0400 (Thu, 14 Aug 2025) EndedAt: 2025-08-14 21:21:47 -0400 (Thu, 14 Aug 2025) EllapsedTime: 209.6 seconds RetCode: 0 Status: OK PackageFile: pipeComp_1.18.0.tar.gz PackageFileSize: 2.801 MiB