Package: pipeComp Version: 1.18.0 Command: rm -rf pipeComp.buildbin-libdir && mkdir pipeComp.buildbin-libdir && /Users/biocbuild/BBS/utils/build-universal.sh pipeComp_1.18.0.tar.gz /Library/Frameworks/R.framework/Resources/bin/R pipeComp.buildbin-libdir StartedAt: 2025-10-14 14:23:06 -0400 (Tue, 14 Oct 2025) EndedAt: 2025-10-14 14:25:52 -0400 (Tue, 14 Oct 2025) EllapsedTime: 166.0 seconds RetCode: 0 Status: OK PackageFile: pipeComp_1.18.0.tgz PackageFileSize: 4.514 MiB