Package: pipeComp Version: 1.18.0 Command: /home/biocbuild/R/R/bin/R CMD INSTALL pipeComp StartedAt: 2025-10-13 21:16:02 -0000 (Mon, 13 Oct 2025) EndedAt: 2025-10-13 21:17:27 -0000 (Mon, 13 Oct 2025) EllapsedTime: 85.4 seconds RetCode: 0 Status: OK