Package: pickgene Version: 1.80.0 Command: /home/biocbuild/bbs-3.21-bioc/R/bin/R CMD check --install=check:pickgene.install-out.txt --library=/home/biocbuild/bbs-3.21-bioc/R/site-library --timings pickgene_1.80.0.tar.gz StartedAt: 2025-10-13 02:18:29 -0400 (Mon, 13 Oct 2025) EndedAt: 2025-10-13 02:18:51 -0400 (Mon, 13 Oct 2025) EllapsedTime: 22.0 seconds RetCode: 0 Status: WARNINGS CheckDir: pickgene.Rcheck Warnings: 1