Package: pickgene Version: 1.80.0 Command: /home/biocbuild/R/R/bin/R CMD INSTALL pickgene StartedAt: 2025-10-13 20:12:47 -0000 (Mon, 13 Oct 2025) EndedAt: 2025-10-13 20:12:59 -0000 (Mon, 13 Oct 2025) EllapsedTime: 11.6 seconds RetCode: 0 Status: OK