Package: pickgene Version: 1.80.0 Command: /Library/Frameworks/R.framework/Resources/bin/R CMD INSTALL pickgene StartedAt: 2025-10-13 15:07:56 -0400 (Mon, 13 Oct 2025) EndedAt: 2025-10-13 15:08:00 -0400 (Mon, 13 Oct 2025) EllapsedTime: 3.8 seconds RetCode: 0 Status: OK