Package: piano Version: 2.24.0 Command: /Library/Frameworks/R.framework/Resources/bin/R CMD INSTALL piano StartedAt: 2025-10-13 15:24:12 -0400 (Mon, 13 Oct 2025) EndedAt: 2025-10-13 15:24:52 -0400 (Mon, 13 Oct 2025) EllapsedTime: 39.6 seconds RetCode: 0 Status: OK