Package: phenopath Version: 1.32.0 Command: /Library/Frameworks/R.framework/Resources/bin/R CMD build --keep-empty-dirs --no-resave-data phenopath StartedAt: 2025-10-13 21:32:14 -0400 (Mon, 13 Oct 2025) EndedAt: 2025-10-13 21:34:12 -0400 (Mon, 13 Oct 2025) EllapsedTime: 117.8 seconds RetCode: 0 Status: OK PackageFile: phenopath_1.32.0.tar.gz PackageFileSize: 1.307 MiB