Package: phenopath Version: 1.32.0 Command: rm -rf phenopath.buildbin-libdir && mkdir phenopath.buildbin-libdir && /Users/biocbuild/BBS/utils/build-universal.sh phenopath_1.32.0.tar.gz /Library/Frameworks/R.framework/Resources/bin/R phenopath.buildbin-libdir StartedAt: 2025-10-14 14:22:26 -0400 (Tue, 14 Oct 2025) EndedAt: 2025-10-14 14:23:52 -0400 (Tue, 14 Oct 2025) EllapsedTime: 86.4 seconds RetCode: 0 Status: OK PackageFile: phenopath_1.32.0.tgz PackageFileSize: 1.013 MiB