Package: phenopath Version: 1.32.0 Command: /Library/Frameworks/R.framework/Resources/bin/R CMD INSTALL phenopath StartedAt: 2025-10-13 16:05:41 -0400 (Mon, 13 Oct 2025) EndedAt: 2025-10-13 16:06:17 -0400 (Mon, 13 Oct 2025) EllapsedTime: 36.0 seconds RetCode: 0 Status: OK