Package: phenopath Version: 1.32.0 Command: /Library/Frameworks/R.framework/Resources/bin/R CMD build --keep-empty-dirs --no-resave-data phenopath StartedAt: 2025-10-14 06:32:14 -0400 (Tue, 14 Oct 2025) EndedAt: 2025-10-14 06:33:13 -0400 (Tue, 14 Oct 2025) EllapsedTime: 58.7 seconds RetCode: 0 Status: OK PackageFile: phenopath_1.32.0.tar.gz PackageFileSize: 1.307 MiB