Package: phenomis Version: 1.10.0 Command: /home/biocbuild/bbs-3.21-bioc/R/bin/R CMD check --install=check:phenomis.install-out.txt --library=/home/biocbuild/bbs-3.21-bioc/R/site-library --timings phenomis_1.10.0.tar.gz StartedAt: 2025-10-16 02:10:56 -0400 (Thu, 16 Oct 2025) EndedAt: 2025-10-16 02:17:04 -0400 (Thu, 16 Oct 2025) EllapsedTime: 367.5 seconds RetCode: 0 Status: OK CheckDir: phenomis.Rcheck Warnings: 0