Package: phenomis Version: 1.10.0 Command: /Library/Frameworks/R.framework/Resources/bin/R CMD INSTALL phenomis StartedAt: 2025-10-13 15:56:21 -0400 (Mon, 13 Oct 2025) EndedAt: 2025-10-13 15:57:47 -0400 (Mon, 13 Oct 2025) EllapsedTime: 85.9 seconds RetCode: 0 Status: OK