Package: phenomis Version: 1.10.0 Command: /Library/Frameworks/R.framework/Resources/bin/R CMD check --install=check:phenomis.install-out.txt --library=/Library/Frameworks/R.framework/Resources/library --no-vignettes --timings phenomis_1.10.0.tar.gz StartedAt: 2025-10-14 08:09:57 -0400 (Tue, 14 Oct 2025) EndedAt: 2025-10-14 08:21:38 -0400 (Tue, 14 Oct 2025) EllapsedTime: 700.2 seconds RetCode: 0 Status: OK CheckDir: phenomis.Rcheck Warnings: 0