Package: phenomis Version: 1.10.0 Command: rm -rf phenomis.buildbin-libdir && mkdir phenomis.buildbin-libdir && /Users/biocbuild/BBS/utils/build-universal.sh phenomis_1.10.0.tar.gz /Library/Frameworks/R.framework/Resources/bin/R phenomis.buildbin-libdir StartedAt: 2025-04-22 01:00:14 -0400 (Tue, 22 Apr 2025) EndedAt: 2025-04-22 01:01:13 -0400 (Tue, 22 Apr 2025) EllapsedTime: 58.8 seconds RetCode: 0 Status: OK PackageFile: phenomis_1.10.0.tgz PackageFileSize: 3.971 MiB