Package: phenomis Version: 1.10.0 Command: /home/biocbuild/R/R/bin/R CMD check --install=check:phenomis.install-out.txt --library=/home/biocbuild/R/R/site-library --no-vignettes --timings phenomis_1.10.0.tar.gz StartedAt: 2025-10-14 12:29:41 -0000 (Tue, 14 Oct 2025) EndedAt: 2025-10-14 12:36:51 -0000 (Tue, 14 Oct 2025) EllapsedTime: 430.5 seconds RetCode: 1 Status: ERROR CheckDir: phenomis.Rcheck Warnings: NA