Package: phenomis Version: 1.10.0 Command: /home/biocbuild/R/R/bin/R CMD build --keep-empty-dirs --no-resave-data phenomis StartedAt: 2025-10-14 03:30:16 -0000 (Tue, 14 Oct 2025) EndedAt: 2025-10-14 03:32:25 -0000 (Tue, 14 Oct 2025) EllapsedTime: 129.1 seconds RetCode: 0 Status: OK PackageFile: phenomis_1.10.0.tar.gz PackageFileSize: 3.527 MiB