Package: phenomis Version: 1.10.0 Command: /Library/Frameworks/R.framework/Resources/bin/R CMD check --install=check:phenomis.install-out.txt --library=/Library/Frameworks/R.framework/Resources/library --no-vignettes --timings phenomis_1.10.0.tar.gz StartedAt: 2025-10-15 07:28:28 -0400 (Wed, 15 Oct 2025) EndedAt: 2025-10-15 07:34:43 -0400 (Wed, 15 Oct 2025) EllapsedTime: 374.3 seconds RetCode: 0 Status: OK CheckDir: phenomis.Rcheck Warnings: 0