Package: phenomis Version: 1.10.0 Command: rm -rf phenomis.buildbin-libdir && mkdir phenomis.buildbin-libdir && /Users/biocbuild/BBS/utils/build-universal.sh phenomis_1.10.0.tar.gz /Library/Frameworks/R.framework/Resources/bin/R phenomis.buildbin-libdir StartedAt: 2025-10-15 19:46:36 -0400 (Wed, 15 Oct 2025) EndedAt: 2025-10-15 19:47:29 -0400 (Wed, 15 Oct 2025) EllapsedTime: 53.4 seconds RetCode: 0 Status: OK PackageFile: phenomis_1.10.0.tgz PackageFileSize: 3.974 MiB