Package: phenoTest Version: 1.56.0 Command: /home/biocbuild/bbs-3.21-bioc/R/bin/R CMD INSTALL phenoTest StartedAt: 2025-10-15 15:29:24 -0400 (Wed, 15 Oct 2025) EndedAt: 2025-10-15 15:29:59 -0400 (Wed, 15 Oct 2025) EllapsedTime: 34.9 seconds RetCode: 0 Status: OK