Package: phenoTest Version: 1.56.0 Command: /home/biocbuild/bbs-3.21-bioc/R/bin/R CMD check --install=check:phenoTest.install-out.txt --library=/home/biocbuild/bbs-3.21-bioc/R/site-library --timings phenoTest_1.56.0.tar.gz StartedAt: 2025-10-16 02:12:01 -0400 (Thu, 16 Oct 2025) EndedAt: 2025-10-16 02:15:50 -0400 (Thu, 16 Oct 2025) EllapsedTime: 228.3 seconds RetCode: 0 Status: OK CheckDir: phenoTest.Rcheck Warnings: 0