Package: phenoTest Version: 1.56.0 Command: /Library/Frameworks/R.framework/Resources/bin/R CMD INSTALL phenoTest StartedAt: 2025-10-13 15:55:42 -0400 (Mon, 13 Oct 2025) EndedAt: 2025-10-13 15:56:57 -0400 (Mon, 13 Oct 2025) EllapsedTime: 75.4 seconds RetCode: 0 Status: OK