Package: phenoTest Version: 1.56.0 Command: /Library/Frameworks/R.framework/Resources/bin/R CMD check --install=check:phenoTest.install-out.txt --library=/Library/Frameworks/R.framework/Resources/library --no-vignettes --timings phenoTest_1.56.0.tar.gz StartedAt: 2025-10-14 08:10:27 -0400 (Tue, 14 Oct 2025) EndedAt: 2025-10-14 08:17:54 -0400 (Tue, 14 Oct 2025) EllapsedTime: 447.6 seconds RetCode: 0 Status: OK CheckDir: phenoTest.Rcheck Warnings: 0