Package: phenoTest Version: 1.56.0 Command: /Library/Frameworks/R.framework/Resources/bin/R CMD build --keep-empty-dirs --no-resave-data phenoTest StartedAt: 2025-10-13 21:32:18 -0400 (Mon, 13 Oct 2025) EndedAt: 2025-10-13 21:34:37 -0400 (Mon, 13 Oct 2025) EllapsedTime: 139.1 seconds RetCode: 0 Status: OK PackageFile: phenoTest_1.56.0.tar.gz PackageFileSize: 1.271 MiB