Package: phenoTest Version: 1.56.0 Command: /home/biocbuild/R/R/bin/R CMD check --install=check:phenoTest.install-out.txt --library=/home/biocbuild/R/R/site-library --no-vignettes --timings phenoTest_1.56.0.tar.gz StartedAt: 2025-10-14 12:29:48 -0000 (Tue, 14 Oct 2025) EndedAt: 2025-10-14 12:34:34 -0000 (Tue, 14 Oct 2025) EllapsedTime: 286.3 seconds RetCode: 0 Status: OK CheckDir: phenoTest.Rcheck Warnings: 0